BEGIN:VCALENDAR
VERSION:2.0
PRODID:-//Christine and the Kings - ECPv6.3.1//NONSGML v1.0//EN
CALSCALE:GREGORIAN
METHOD:PUBLISH
X-WR-CALNAME:Christine and the Kings
X-ORIGINAL-URL:http://christineandthekings.ch
X-WR-CALDESC:évènements pour Christine and the Kings
REFRESH-INTERVAL;VALUE=DURATION:PT1H
X-Robots-Tag:noindex
X-PUBLISHED-TTL:PT1H
BEGIN:VTIMEZONE
TZID:Europe/Paris
BEGIN:DAYLIGHT
TZOFFSETFROM:+0100
TZOFFSETTO:+0200
TZNAME:CEST
DTSTART:20210328T010000
END:DAYLIGHT
BEGIN:STANDARD
TZOFFSETFROM:+0200
TZOFFSETTO:+0100
TZNAME:CET
DTSTART:20211031T010000
END:STANDARD
END:VTIMEZONE
BEGIN:VEVENT
DTSTART;TZID=Europe/Paris:20211211T200000
DTEND;TZID=Europe/Paris:20211211T230000
DTSTAMP:20260424T124913
CREATED:20211103T070413Z
LAST-MODIFIED:20211103T070413Z
UID:3936-1639252800-1639263600@christineandthekings.ch
SUMMARY:Concert à La Petite Pinte - Farvagny
DESCRIPTION:
URL:http://christineandthekings.ch/event/concert-a-la-petite-pinte-farvagny/
LOCATION:La Pinte\, Route de Fribour 6\, Farvagny\, 1726
ATTACH;FMTTYPE=image/jpeg:http://christineandthekings.ch/wp-content/uploads/2020/07/christine-and-the-kings-3.jpg
END:VEVENT
END:VCALENDAR