BEGIN:VCALENDAR
VERSION:2.0
PRODID:-//Christine and the Kings - ECPv6.3.1//NONSGML v1.0//EN
CALSCALE:GREGORIAN
METHOD:PUBLISH
X-WR-CALNAME:Christine and the Kings
X-ORIGINAL-URL:http://christineandthekings.ch
X-WR-CALDESC:évènements pour Christine and the Kings
REFRESH-INTERVAL;VALUE=DURATION:PT1H
X-Robots-Tag:noindex
X-PUBLISHED-TTL:PT1H
BEGIN:VTIMEZONE
TZID:Europe/Paris
BEGIN:DAYLIGHT
TZOFFSETFROM:+0100
TZOFFSETTO:+0200
TZNAME:CEST
DTSTART:20200329T010000
END:DAYLIGHT
BEGIN:STANDARD
TZOFFSETFROM:+0200
TZOFFSETTO:+0100
TZNAME:CET
DTSTART:20201025T010000
END:STANDARD
END:VTIMEZONE
BEGIN:VEVENT
DTSTART;TZID=Europe/Paris:20200711T173000
DTEND;TZID=Europe/Paris:20200711T190000
DTSTAMP:20260424T130221
CREATED:20200702T134943Z
LAST-MODIFIED:20200707T160023Z
UID:912-1594488600-1594494000@christineandthekings.ch
SUMMARY:Quartette à Charmey (au pied du télécabine)
DESCRIPTION:Clin d’œil à notre Édition Festycharme annulée et qui aurait eu lieu à la même Date !.. \nNext Concert Christine & the Kings Quartette Blues Boogie\nSaturday\,11.7.2020 à 17h30..sur la Terrasse de la Jogne en bas du Télécabine de Charmey
URL:http://christineandthekings.ch/event/trio-a-charmey-au-pied-du-telecabine/
LOCATION:Charmey\, Suisse
ATTACH;FMTTYPE=image/jpeg:http://christineandthekings.ch/wp-content/uploads/2019/10/christine-and-the-kings-1200.jpg
END:VEVENT
END:VCALENDAR